BEGIN:VCALENDAR
VERSION:2.0
PRODID:-//ChamberMaster//Event Calendar 2.0//EN
METHOD:PUBLISH
X-PUBLISHED-TTL:P3D
REFRESH-INTERVAL:P3D
CALSCALE:GREGORIAN
BEGIN:VEVENT
DTSTART;VALUE=DATE:20190704
DTEND;VALUE=DATE:20190705
TRANSP:TRANSPARENT
X-MICROSOFT-CDO-ALLDAYEVENT:TRUE
SUMMARY:Boardman Thunder 4th of July Celebration
DESCRIPTION:"Boardman Thunder" is what they call the Independence Day celebration in the town of Boardman\, OR.  A fun-filled day of events that makes this small town come alive.
X-ALT-DESC;FMTTYPE=text/html:<strong>&quot\;Boardman Thunder&quot\; is what they call the Independence Day celebration in the town of Boardman\, OR.&nbsp\; A fun-filled day of events that makes this small town come alive.</strong>
LOCATION:Events are staged through out our town and Boardman Marina Park Click this Link for a our Flyer https://chambermaster.blob.core.windows.net/userfiles/UserFiles/chambers/3223/File/4thofJulyPoster2019.pdf
UID:e.3223.335
SEQUENCE:3
DTSTAMP:20260425T145838Z
URL:https://business.boardmanchamber.org/events/details/boardman-thunder-4th-of-july-celebration-335
END:VEVENT

END:VCALENDAR
